BEGIN:VCALENDAR
VERSION:2.0
PRODID:-//Volunteer Connect York Region - ECPv4.8.2//NONSGML v1.0//EN
CALSCALE:GREGORIAN
METHOD:PUBLISH
X-WR-CALNAME:Volunteer Connect York Region
X-ORIGINAL-URL:https://volunteermarkham.ca
X-WR-CALDESC:Events for Volunteer Connect York Region
BEGIN:VEVENT
DTSTART;TZID=America/Toronto:20200405T120000
DTEND;TZID=America/Toronto:20200405T140000
DTSTAMP:20260421T201733
CREATED:20200226T163856Z
LAST-MODIFIED:20200226T163856Z
UID:2540-1586088000-1586095200@volunteermarkham.ca
SUMMARY:Free Video Game Playing on Sundays at denthreesixty
DESCRIPTION:Free Video Game Playing on Sundays at denthreesixty\n\n60 Main Street Markham North\, Unit 3   map\n\nfrom noon to 2 p.m.\n\ndenthreesixty is the GTA’s first video game console arcade featuring N64\, Sega\, XBOX games & more! There are dozens of games to take you to your happy place.\n\nCome by every Sunday between 12 p.m. and 2 p.m. to play a selection of classic games. New games available every week. Great for the whole family.\n\nWith a mixture of consoles and arcade machines\, their goal is to create a community where people of all ages can gather\, bond\, and build new memories.\n\n
URL:https://volunteermarkham.ca/event/free-video-game-playing-on-sundays-at-denthreesixty/2020-04-05/
LOCATION:denthreesixty\, 60 Main Street Markham North\, Unit 3\, Markham\, Ontario\, Canada
END:VEVENT
END:VCALENDAR