BEGIN:VCALENDAR
VERSION:2.0
PRODID:-//Volunteer Connect York Region - ECPv4.8.2//NONSGML v1.0//EN
CALSCALE:GREGORIAN
METHOD:PUBLISH
X-WR-CALNAME:Volunteer Connect York Region
X-ORIGINAL-URL:https://volunteermarkham.ca
X-WR-CALDESC:Events for Volunteer Connect York Region
BEGIN:VEVENT
DTSTART;VALUE=DATE:20200225
DTEND;VALUE=DATE:20200309
DTSTAMP:20260423T145957
CREATED:20200225T162732Z
LAST-MODIFIED:20200225T162853Z
UID:2364-1582588800-1583711999@volunteermarkham.ca
SUMMARY:Free Skating at Markham Civic Centre
DESCRIPTION:Markham Civic Centre Outdoor Ice Rink\nis Open for the Season\n\n Free Public Skating \n\nOpen 10 a.m. to 10 p.m. daily except Wednesdays\n12 p.m. to 10 p.m. Wednesday\n\nAddress: 101 Town Centre Blvd.  map\n\nRecreational skating only.\n\nNo hockey sticks\, pucks or balls allowed.\n\nSkate Rental: Adults $10\, Children 12 and under $5\n(Prices are based on a 2 hour rental)\n\nSkate rentals are on:\nFridays: 5 p.m. – 10 p.m.\nSaturdays: 10 a.m. – 10 p.m.\nSundays: 10 a.m. – 10 pm.\n\n
URL:https://volunteermarkham.ca/event/free-skating-at-markham-civic-centre/
LOCATION:Markham Civic Centre\, 101 Town Centre Blvd.\, Markham\, Ontario\, L3R9W3\, Canada
END:VEVENT
END:VCALENDAR