BEGIN:VCALENDAR
VERSION:2.0
PRODID:-//Volunteer Connect York Region - ECPv4.8.2//NONSGML v1.0//EN
CALSCALE:GREGORIAN
METHOD:PUBLISH
X-WR-CALNAME:Volunteer Connect York Region
X-ORIGINAL-URL:https://volunteermarkham.ca
X-WR-CALDESC:Events for Volunteer Connect York Region
BEGIN:VEVENT
DTSTART;TZID=America/Toronto:20221125T180000
DTEND;TZID=America/Toronto:20221125T210000
DTSTAMP:20260425T104244
CREATED:20221012T171436Z
LAST-MODIFIED:20221012T171436Z
UID:6623-1669399200-1669410000@volunteermarkham.ca
SUMMARY:Festival of Lights- Main Street Markham
DESCRIPTION:Join us for Main Street Markham’s Annual Festival of Lights Celebration!\nFriday\, November 25th\, 6pm – 9pm \nShop for your loved ones from a selection of local\, craft vendors in a heated tent at our second annual Holiday Market \nBring the family and enjoy street-wide attractions including Photos with Santa\, Carollers\, Winter Warm-Up Stations\, Characters\, beautiful festive light displays and more \nCast your vote for our annual Best Dressed Holiday Window contest \nJoin the community for our annual Tree Lighting at Main & Robinson Street at 8pm and take in a dazzling fireworks display \nWe can’t wait to celebrate with you! \n*please note: Main Street will not be closed for this event \n
URL:https://volunteermarkham.ca/event/festival-of-lights-main-street-markham/
LOCATION:Main Street Markham\, Main Street Markham\, Markham\, Ontario\, Canada
ATTACH;FMTTYPE=image/jpeg:https://volunteermarkham.ca/wp-content/uploads/2022/10/Screenshot-2022-10-12-131222.jpg
ORGANIZER;CN="Markham%20Main%20Street%20BIA":MAILTO:info@mainstreetmarkham.com
END:VEVENT
END:VCALENDAR