BEGIN:VCALENDAR
VERSION:2.0
PRODID:-//Volunteer Connect York Region - ECPv4.8.2//NONSGML v1.0//EN
CALSCALE:GREGORIAN
METHOD:PUBLISH
X-WR-CALNAME:Volunteer Connect York Region
X-ORIGINAL-URL:https://volunteermarkham.ca
X-WR-CALDESC:Events for Volunteer Connect York Region
BEGIN:VEVENT
DTSTART;TZID=America/Toronto:20200125T100000
DTEND;TZID=America/Toronto:20200125T130000
DTSTAMP:20260424T222531
CREATED:20200107T164920Z
LAST-MODIFIED:20200107T164920Z
UID:2224-1579946400-1579957200@volunteermarkham.ca
SUMMARY:Family Literacy Fair in Markham
DESCRIPTION:Family Literacy Fair in Markham\n\nSaturday\, January 25\, 2020\n\n10 a.m. to 1 p.m.\n\nLocation: Milliken Mills Library\n7600 Kennedy Road  map\n\nCelebrate Family Literacy Day with Markham Public Library! \n\nFamily Literacy Day is a national awareness initiative which helps raise awareness of the importance of reading and other literacy-related activities as a family. You’ll have an opportunity to engage with our community partners and learn how you can support healthy literacy development at home. Throughout the event\, staff will showcase library resources including a variety of STEM technology\, programs that can support your child’s education. Join MPL in fun and engaging literacy activities for the whole family to enjoy!\n\n
URL:https://volunteermarkham.ca/event/family-literacy-fair-in-markham/
LOCATION:miliken mills library\, 7600\,Kennedy road\, Markham\, Ontario\, Canada
END:VEVENT
END:VCALENDAR