BEGIN:VCALENDAR
VERSION:2.0
PRODID:-//Volunteer Connect York Region - ECPv4.8.2//NONSGML v1.0//EN
CALSCALE:GREGORIAN
METHOD:PUBLISH
X-WR-CALNAME:Volunteer Connect York Region
X-ORIGINAL-URL:https://volunteermarkham.ca
X-WR-CALDESC:Events for Volunteer Connect York Region
BEGIN:VEVENT
DTSTART;TZID=America/Toronto:20211120T180000
DTEND;TZID=America/Toronto:20220130T220000
DTSTAMP:20260426T025844
CREATED:20211110T164212Z
LAST-MODIFIED:20211110T164212Z
UID:5439-1637431200-1643580000@volunteermarkham.ca
SUMMARY:Fairway of Lights at Angus Glen Golf Club (select nights)
DESCRIPTION:\nAngus Glen Golf Club is excited to officially announce a new annual walking light show experience\, Fairway of Lights at Angus Glen Golf Club\, coming this winter. \nAfter nightfall\, guests are invited to follow the path through the woods and experience the excitement\, mystery and celebration of the winter season in lights.\nThe illuminated 1 km walking path takes guests on a magical adventure on our North Course\, beginning on Coyote trail and circling back down the 18th pathway to the clubhouse. Spectacular decorations and interactive displays are expected to dazzle and enchant you and showcase the wonder of the festive season. \nSpecial Festival Nights will bring additional live entertainment that will wow audiences\, such as: Santa\, live ice carving\, fire entertainers\, Princess\ncharacters and more! \nVisit the Fairway of Lights at Angus Glen with your family or a company night out this holiday season and enjoy a magical night under the stars. \nWhile enjoying the illuminated 1 km walking path\, which will take guests on a magical adventure on our North Course\, Angus Glen will be hosting 3 special Holiday Events which will offer food trucks\, fire performers\, LED princesses\, live ice carving\, a caricaturist\, old fashioned carolers and a visit from Santa! \n\n\n\n\n\nSelect Nights\, November 20 to January 30\, 2022 | 6:00 PM to 10:00 PM \nTickets: \nLightshow: \nAdults Ages 13 – 64: $25\nChildren Ages 4-12 (3 & under free)/Seniors Ages 65+: $22.50\nFamily Packages 6pm Includes 2 adults and up to 3 children: $90 \nEarly bird pricing of $5 off/ticket purchased by November 15\, 2021. Does not apply to Festival Nights. \nFestival Nights: \nAdults Ages 13 – 64: $35\nChildren Ages 4-12/Ages 65+(3 & under free): $31.50\nFamily Packages 6pm Includes 2 adults and up to 3 children: $130 \nHow to get tickets? \n\n Buy Online \n\nDate & Time:\n\nSelect Nights\, November 20 to January 30\, 2022 | 6:00 PM to 10:00 PM \nSaturday\, November 27\, 2021 \nThursday\, December 9\, 2021 \nWednesday\, December 22\, 2021 \nVenue: \nAngus Glen Golf Club\n10080 Kennedy Rd\, Gormley\, ON L0H 1G0\n\n\n\n\n\nWhere: \nAngus Glen Golf Club\, 10080 Kennedy Rd\, Gormley\n\n\n\n\n\n\n
URL:https://volunteermarkham.ca/event/fairway-of-lights-at-angus-glen-golf-club-select-nights/
LOCATION:Angus Glen Golf Club\, 10080 Kennedy Road\, Markham\, Ontario\, Canada
END:VEVENT
END:VCALENDAR