BEGIN:VCALENDAR
VERSION:2.0
PRODID:-//Volunteer Connect York Region - ECPv4.8.2//NONSGML v1.0//EN
CALSCALE:GREGORIAN
METHOD:PUBLISH
X-WR-CALNAME:Volunteer Connect York Region
X-ORIGINAL-URL:https://volunteermarkham.ca
X-WR-CALDESC:Events for Volunteer Connect York Region
BEGIN:VEVENT
DTSTART;TZID=America/Toronto:20200326T180000
DTEND;TZID=America/Toronto:20200326T233000
DTSTAMP:20260422T041745
CREATED:20200121T173039Z
LAST-MODIFIED:20200121T173039Z
UID:2335-1585245600-1585265400@volunteermarkham.ca
SUMMARY:Evergreen Annual Gala - An Evening of Fun\, Frivolity and Murder
DESCRIPTION:Thursday\, March 26\, 2020\n\n6:00 p.m. to 11:55 p.m.\n\nVenue: Angus Glen Golf Club\n10080 Kennedy Road   map\n\nEnjoy:\n • Cocktails and appetizers at 6 p.m.\n • Open bar\n • Gourmet meal at 7 p.m.\n • Casino Games (for fun)\n • Live Auction\n • Silent Auction\n • Fun Raffle\n • Dancing\n\nWhether you are single (bring a friend!) or a couple\, you will enjoy our evening!\n\nAttire \nCome as a CLUE character\, posh businessman\, scheming villian or come as you are!\n\n
URL:https://volunteermarkham.ca/event/evergreen-annual-gala-an-evening-of-fun-frivolity-and-murder/
LOCATION:Angus Glen Golf Club\, 10080 Kennedy Road\, Markham\, Ontario\, Canada
END:VEVENT
END:VCALENDAR