BEGIN:VCALENDAR
VERSION:2.0
PRODID:-//Volunteer Connect York Region - ECPv4.8.2//NONSGML v1.0//EN
CALSCALE:GREGORIAN
METHOD:PUBLISH
X-WR-CALNAME:Volunteer Connect York Region
X-ORIGINAL-URL:https://volunteermarkham.ca
X-WR-CALDESC:Events for Volunteer Connect York Region
BEGIN:VEVENT
DTSTART;TZID=America/Toronto:20230419T140000
DTEND;TZID=America/Toronto:20230419T160000
DTSTAMP:20260425T005528
CREATED:20230329T174120Z
LAST-MODIFIED:20230329T174120Z
UID:12234-1681912800-1681920000@volunteermarkham.ca
SUMMARY:Enterprising Careers: Presented by Women's Centre of York Region
DESCRIPTION:Enterprising Careers is a career exploration program that can help you prepare for rewarding employment opportunities. \nWe help you take the first steps to become “job ready” by showing you how to access your current skills\, make informed decisions about career paths\, and perhaps consider returning to school. \nThe program runs once a week for 10 weeks starting the week of April 10th\, 2023. \nCheck out these flyers to see the online & in-person groups we’re offering! Locations: Aurora\, Georgina\, and Thornhill. \nLearn more and register online here https://www.wcyr.ca/registration or email info@wcyr.ca \n
URL:https://volunteermarkham.ca/event/enterprising-careers-presented-by-womens-centre-of-york-region/2023-04-19/
LOCATION:Virtual
ATTACH;FMTTYPE=image/jpeg:https://volunteermarkham.ca/wp-content/uploads/2023/03/Screenshot-2023-03-29-133625.jpg
ORGANIZER;CN="womens%20centre%20of%20york%20region":MAILTO:info@wcyr.ca
END:VEVENT
END:VCALENDAR