BEGIN:VCALENDAR
VERSION:2.0
PRODID:-//Volunteer Connect York Region - ECPv4.8.2//NONSGML v1.0//EN
CALSCALE:GREGORIAN
METHOD:PUBLISH
X-WR-CALNAME:Volunteer Connect York Region
X-ORIGINAL-URL:https://volunteermarkham.ca
X-WR-CALDESC:Events for Volunteer Connect York Region
BEGIN:VEVENT
DTSTART;TZID=America/Toronto:20200329T080000
DTEND;TZID=America/Toronto:20200329T170000
DTSTAMP:20260422T010040
CREATED:20200121T173412Z
LAST-MODIFIED:20200121T173412Z
UID:2340-1585468800-1585501200@volunteermarkham.ca
SUMMARY:Enjoy the Meal\, Ma!
DESCRIPTION:Sunday\, March 29\, 2020\n\n5:00 – 8:00 p.m.\n\nVenue: Varley Art Gallery of Markham\n216 Main Street Unionville  map\n\nBarriers often occur as a common language shared by multiple generations of the same family becomes obscured when assimilating to Canadian culture. Annie Wong will practice speaking her lost mother-tongue with her mother\, Minh and invites Cantonese and Mandarin speaking mothers and daughters who also experience these barriers to join them in friendly conversations over an informal hot pot dinner at the gallery.\n\nClick here for more information about Annie Wong.\n\nRegistration is required. Limited space available.\n\nEmail ixo@markham.ca or call 905-477-7000 ext. 3261.\n  \n
URL:https://volunteermarkham.ca/event/enjoy-the-meal-ma/
LOCATION:Varley Art Gallery\, 216 Main Street\, Unionville\, Ontario\, L3R 2H1\, Canada
END:VEVENT
END:VCALENDAR