BEGIN:VCALENDAR
VERSION:2.0
PRODID:-//Volunteer Connect York Region - ECPv4.8.2//NONSGML v1.0//EN
CALSCALE:GREGORIAN
METHOD:PUBLISH
X-WR-CALNAME:Volunteer Connect York Region
X-ORIGINAL-URL:https://volunteermarkham.ca
X-WR-CALDESC:Events for Volunteer Connect York Region
BEGIN:VEVENT
DTSTART;TZID=America/Toronto:20201126T150000
DTEND;TZID=America/Toronto:20201126T160000
DTSTAMP:20260421T020510
CREATED:20201123T154508Z
LAST-MODIFIED:20201123T154508Z
UID:3065-1606402800-1606406400@volunteermarkham.ca
SUMMARY:Engaging Youth Volunteers
DESCRIPTION:Sign up here to attend our Discussion on Engaging Youth Volunteers.  Presented to you through a collaboration with Volunteer MBC\, Volunteer Toronto and Volunteer Markham. \nJoin us to learn about a new “Playbook” created by Pledges for Change (a youth group that has developed this resource since the beginning of the pandemic) and listen in on our panelists who speak on youth engagement in their organizations. \nhttps://www.eventbrite.ca/e/a-conversation-on-engaging-youth-volunteers-tickets-129338199035?utm-medium=discovery&utm-campaign=social&utm-content=attendeeshare&aff=esfb&utm-source=fb&utm-term=listing&fbclid=IwAR1H5fBbFuNnRMFXp9U_2bSLrDOOn59MxhtPTzEfs-OAn4aXY8wUE4bBfh4 \n
URL:https://volunteermarkham.ca/event/engaging-youth-volunteers/
ORGANIZER;CN="Volunteer%20Markham":MAILTO:info@volunteermarkham.ca
END:VEVENT
END:VCALENDAR