BEGIN:VCALENDAR
VERSION:2.0
PRODID:-//Volunteer Connect York Region - ECPv4.8.2//NONSGML v1.0//EN
CALSCALE:GREGORIAN
METHOD:PUBLISH
X-WR-CALNAME:Volunteer Connect York Region
X-ORIGINAL-URL:https://volunteermarkham.ca
X-WR-CALDESC:Events for Volunteer Connect York Region
BEGIN:VEVENT
DTSTART;TZID=America/Toronto:20230410T140000
DTEND;TZID=America/Toronto:20230410T160000
DTSTAMP:20260425T005113
CREATED:20230329T171725Z
LAST-MODIFIED:20230329T171725Z
UID:12212-1681135200-1681142400@volunteermarkham.ca
SUMMARY:Easter Egg Hunt for immigrant children aged 6-12
DESCRIPTION:Join Welcome Centre Immigrant Services at Welcome Centre Markham South on April 10th 2023 from 2-4pm for an egg and spoon race\, make your own Easter eggs and egg hunt! for ages 6-12.  \nPlease call or email to register at:\nphoenix.ho@welcomecentre.ca\n416-936-2933 / 905-479-9499 \n
URL:https://volunteermarkham.ca/event/easter-egg-hunt-for-immigrant-children-aged-6-12/
LOCATION:markham south welcome centre\, 7220 Kennedy Road\, Markham\, ontario\, L3R 7P2\, Canada
ATTACH;FMTTYPE=image/jpeg:https://volunteermarkham.ca/wp-content/uploads/2023/03/Screenshot-2023-03-29-130654.jpg
END:VEVENT
END:VCALENDAR