BEGIN:VCALENDAR
VERSION:2.0
PRODID:-//Volunteer Connect York Region - ECPv4.8.2//NONSGML v1.0//EN
CALSCALE:GREGORIAN
METHOD:PUBLISH
X-WR-CALNAME:Volunteer Connect York Region
X-ORIGINAL-URL:https://volunteermarkham.ca
X-WR-CALDESC:Events for Volunteer Connect York Region
BEGIN:VEVENT
DTSTART;TZID=America/Toronto:20221117T120000
DTEND;TZID=America/Toronto:20221117T130000
DTSTAMP:20260425T103740
CREATED:20221114T195357Z
LAST-MODIFIED:20221114T195357Z
UID:8615-1668686400-1668690000@volunteermarkham.ca
SUMMARY:Community of Practice Parks & Recreation
DESCRIPTION:COP: The Parks & Recreation Lunch and Learn COP is designed to include a broad range of topics regarding urban and rural parks\, botanical gardens\, parks\, and nature preserves. The objective of this COP is to connect volunteer engagement professionals within these organizations to share resources and best practices. \nDate: Thursday\, November 17th @ 12pm ET | 9amPT \nRegister: http://ow.ly/E4M950LBtkH \n
URL:https://volunteermarkham.ca/event/community-of-practice-parks-recreation/
LOCATION:Virtual
ATTACH;FMTTYPE=image/jpeg:https://volunteermarkham.ca/wp-content/uploads/2022/11/Screenshot-2022-11-14-142752.jpg
END:VEVENT
END:VCALENDAR