BEGIN:VCALENDAR
VERSION:2.0
PRODID:-//Volunteer Connect York Region - ECPv4.8.2//NONSGML v1.0//EN
CALSCALE:GREGORIAN
METHOD:PUBLISH
X-WR-CALNAME:Volunteer Connect York Region
X-ORIGINAL-URL:https://volunteermarkham.ca
X-WR-CALDESC:Events for Volunteer Connect York Region
BEGIN:VEVENT
DTSTART;TZID=America/Toronto:20201003T090000
DTEND;TZID=America/Toronto:20201003T110000
DTSTAMP:20260421T034637
CREATED:20201002T210348Z
LAST-MODIFIED:20201002T210348Z
UID:2943-1601715600-1601722800@volunteermarkham.ca
SUMMARY:Community Cleanup hosted by Lions Club of Stouffville
DESCRIPTION:Please join the Lions Club of Stouffville on Saturday\, October 3 from 9-11am for the Main Street Cleanup from 9th – 10th Line. \nMeeting at the Go Train Station/Chamber of Commerce/Train Tracks on Main Street! \nRemember gloves\, grabers and bags provided! Let’s show community pride with this clean up. \nPlease remember to wear your masks. \n
URL:https://volunteermarkham.ca/event/community-cleanup-hosted-by-lions-club-of-stouffville/
END:VEVENT
END:VCALENDAR