BEGIN:VCALENDAR
VERSION:2.0
PRODID:-//Volunteer Connect York Region - ECPv4.8.2//NONSGML v1.0//EN
CALSCALE:GREGORIAN
METHOD:PUBLISH
X-WR-CALNAME:Volunteer Connect York Region
X-ORIGINAL-URL:https://volunteermarkham.ca
X-WR-CALDESC:Events for Volunteer Connect York Region
BEGIN:VEVENT
DTSTART;TZID=America/Toronto:20230422T120000
DTEND;TZID=America/Toronto:20230422T150000
DTSTAMP:20260425T005344
CREATED:20230419T174225Z
LAST-MODIFIED:20230419T174225Z
UID:12431-1682164800-1682175600@volunteermarkham.ca
SUMMARY:Communi-Tea: Presented by South Central Richmond Hill CAT
DESCRIPTION:JOIN US FOR A LOVELY AFTERNOON OF  \nCOMMUNI-TEA \nSATURDAY 22 APRIL\nDiscover the Resources in Your Community\nSOC IAL / COMMUNTY SERVICES\nF R E E P R I Z E S \, T EA & SNAC K S & MANY MOR E \nSATURDAY 22 APRIL\n12:00 pm – 3:00 pm\nCENTENNIAL POOL – 161 NEWKIRK RD \nRICHMOND HILL \nHOSTED BY : SOUTH C ENTRAL RICHMOND HILL COMMUNITY ACTION TABLE \n
URL:https://volunteermarkham.ca/event/communi-tea-presented-by-south-central-richmond-hill-cat/
LOCATION:Centennial Pool\, 161 NEWKIRK RD\, Richmond Hill\, Ontario\, L4C 3G6\, Canada
ATTACH;FMTTYPE=image/jpeg:https://volunteermarkham.ca/wp-content/uploads/2023/04/Screenshot-2023-04-19-133734.jpg
ORGANIZER;CN="South%20Central%20Richmond%20Hill%20CAT":MAILTO:scamilla@agincourtcommunityservices.com
END:VEVENT
END:VCALENDAR