BEGIN:VCALENDAR
VERSION:2.0
PRODID:-//Volunteer Connect York Region - ECPv4.8.2//NONSGML v1.0//EN
CALSCALE:GREGORIAN
METHOD:PUBLISH
X-WR-CALNAME:Volunteer Connect York Region
X-ORIGINAL-URL:https://volunteermarkham.ca
X-WR-CALDESC:Events for Volunteer Connect York Region
BEGIN:VEVENT
DTSTART;TZID=America/Toronto:20230603T093000
DTEND;TZID=America/Toronto:20230603T140000
DTSTAMP:20260424T212443
CREATED:20230412T154540Z
LAST-MODIFIED:20230412T154544Z
UID:12358-1685784600-1685800800@volunteermarkham.ca
SUMMARY:BRAVE York Region 2023 for girls aged 12-16
DESCRIPTION:BRAVE York Region 2023 \nSaturday\, June 3\, 2023 \n9:30 am to 2 pm \nDetails: The Salvation Army\, at our location at Northridge Community Church\, will be hosting a BRAVE event where we expect upwards to 60 girls aged 12 – 16 plus volunteers to attend.  \nRegistration link: www.northridgesa.com/brave \nBRAVE is a 1-day event to remind girls that they are valuable\, and worth being celebrated. There is an encouragement for them dream big for what their future can be. Our goal is to give them a boost of confidence and self-esteem and inspire them to be brave. \nBRAVE intentionally reaches vulnerable girls (foster care/probation/sexual abuse/divorce) who are at risk of human trafficking. \nBRAVE sees empowerment as the GOAL. We want girls to be strong and free. \nBRAVE celebrates diversity—all colors\, shapes & sizes! \nBRAVE connects the community and the local church to work together. \nBRAVE believes girls are the solution not the problem. \nPlease forward the BRAVE 2023 York Region poster to girls aged 12 – 16\, parents\, guardians\, foster parents\, service providers\, etc  \n
URL:https://volunteermarkham.ca/event/brave-york-region-2023-for-girls-aged-12-16/
LOCATION:Northridge Community Church of The Salvation Army\, 15338 Leslie Street\,\, Aurora\, Ontario\, L4G 7C4\, Canada
ATTACH;FMTTYPE=image/png:https://volunteermarkham.ca/wp-content/uploads/2023/04/Brave-Northridge-1.png
ORGANIZER;CN="Northridge%20Community%20Church%2C%20The%20Salvation%20Army":MAILTO:mail@northridgesa.com
END:VEVENT
END:VCALENDAR