BEGIN:VCALENDAR
VERSION:2.0
PRODID:-//Volunteer Connect York Region - ECPv4.8.2//NONSGML v1.0//EN
CALSCALE:GREGORIAN
METHOD:PUBLISH
X-WR-CALNAME:Volunteer Connect York Region
X-ORIGINAL-URL:https://volunteermarkham.ca
X-WR-CALDESC:Events for Volunteer Connect York Region
BEGIN:VEVENT
DTSTART;TZID=America/Toronto:20220924T100000
DTEND;TZID=America/Toronto:20220924T160000
DTSTAMP:20260425T140527
CREATED:20220906T133019Z
LAST-MODIFIED:20220906T133019Z
UID:6484-1664013600-1664035200@volunteermarkham.ca
SUMMARY:Applefest
DESCRIPTION:Applefest is an annual tradition at the Markham Museum and is the tastiest event of the year! It features access to museum exhibitions\, various historic buildings throughout the 25-acre site\, little train rides\, dynamic live entertainment\, apple treats\, fresh apple cider\, food trucks and much more! \nParking at the Markham Museum is limited. Additional parking available within walking distance at the Mount Joy GO Station. \n
URL:https://volunteermarkham.ca/event/applefest-2/
END:VEVENT
END:VCALENDAR