BEGIN:VCALENDAR
VERSION:2.0
PRODID:-//Volunteer Connect York Region - ECPv4.8.2//NONSGML v1.0//EN
CALSCALE:GREGORIAN
METHOD:PUBLISH
X-WR-CALNAME:Volunteer Connect York Region
X-ORIGINAL-URL:https://volunteermarkham.ca
X-WR-CALDESC:Events for Volunteer Connect York Region
BEGIN:VEVENT
DTSTART;TZID=America/Toronto:20200227T183000
DTEND;TZID=America/Toronto:20200227T200000
DTSTAMP:20260423T093111
CREATED:20200121T150803Z
LAST-MODIFIED:20200121T150803Z
UID:2307-1582828200-1582833600@volunteermarkham.ca
SUMMARY:Afro-Caribbean Fusion Dance
DESCRIPTION:Afro-Caribbean Fusion Dance\n\nby Aaniin Community Centre & Library\n\nThursday\, February 27\, 2020\n\n6:30 p.m. – 8:00 p.m.\n\nLocation: Aaniin Community Centre\n5665 14th Avenue\n\nThis is planned to be an interactive session exploring the cultural significance of various dance moves and the impact on our modern day expression. Participants will have fun learning the various dance moves along with its rich heritage. This workshop is presented by Markham African Caribbean Association.\n\nSpace is limited.\n\n  \n
URL:https://volunteermarkham.ca/event/afro-caribbean-fusion-dance/
LOCATION:Aaniin Community Centre\, 5665 14th Avenue \, Markham\, Ontario\, Canada
END:VEVENT
END:VCALENDAR