BEGIN:VCALENDAR
VERSION:2.0
PRODID:-//Volunteer Connect York Region - ECPv4.8.2//NONSGML v1.0//EN
CALSCALE:GREGORIAN
METHOD:PUBLISH
X-WR-CALNAME:Volunteer Connect York Region
X-ORIGINAL-URL:https://volunteermarkham.ca
X-WR-CALDESC:Events for Volunteer Connect York Region
BEGIN:VEVENT
DTSTART;VALUE=DATE:20200619
DTEND;VALUE=DATE:20200620
DTSTAMP:20260421T105105
CREATED:20200227T153635Z
LAST-MODIFIED:20200227T153902Z
UID:2567-1592524800-1592611199@volunteermarkham.ca
SUMMARY:42nd Annual Markham Village Music Festival
DESCRIPTION:Friday\, June 19 & Saturday\, June 20\, 2020 \nLocation: Main Street Markham North  map \nThe Markham Village Music Festival will be held on the Main Street Markham North\, north of Highway 7 on June 19 & 20\, 2020.\n\n\nThe Festival features four stages of entertainment\, craft and food vendors\, farmers’ market and a Kid’s Zone in Morgan Park.\n\nOn Friday evening the Multicultural Taste of Markham is a distinct festival within the music Festival that takes place mostly on Friday evening.\n\nCarnival rides are offered in Morgan Park on Friday evening and all day Saturday.\n\nThe musical genres cover everything from rock to jazz. Friday evening and part of Saturday highlights its diverse communities with music\, dance and food from around the world.\n\nIt’s family fun for everyone!\n\n\n\n
URL:https://volunteermarkham.ca/event/42nd-annual-markham-village-music-festival/2020-06-19/
LOCATION:Main Street Markham North\, Markham\, Ontario\, Canada
END:VEVENT
END:VCALENDAR