BEGIN:VCALENDAR
VERSION:2.0
PRODID:-//Volunteer Connect York Region - ECPv4.8.2//NONSGML v1.0//EN
CALSCALE:GREGORIAN
METHOD:PUBLISH
X-WR-CALNAME:Volunteer Connect York Region
X-ORIGINAL-URL:https://volunteermarkham.ca
X-WR-CALDESC:Events for Volunteer Connect York Region
BEGIN:VEVENT
DTSTART;TZID=America/Toronto:20200314T013000
DTEND;TZID=America/Toronto:20200314T150000
DTSTAMP:20260422T110031
CREATED:20200226T150839Z
LAST-MODIFIED:20200226T150839Z
UID:2497-1584149400-1584198000@volunteermarkham.ca
SUMMARY:2SLGBTQ+ Swim Day
DESCRIPTION:CAYR Community Connections – an Aaniin Community Hub Partner – is proud to offer a free\, safer and affirming swim for 2SLGBTQ+ and their allies as part of the Rainbow Space Program. Limited spots available. Text your RSVP to 416.606.4200. Transit ticket support available upon request. Stay after the swim on June 27th and join CAYR and Aaniin Community Center for a free PRIDE Dinner and Movie. \n\n\n\n\n\n\n\n\n\n\n\n\nDay/Time 1 : March 14\, 2020 from 1:30pm to 3:00pm\nDay/Time 2 : June 27\, 2020 from 1:30pm to 3:00pm\nDay/Time 3 : September 12\, 2020 from 1:30pm to 3:00pm\n\n\n\n\n \n\n\n\n\n\n\n\n
URL:https://volunteermarkham.ca/event/2slgbtq-swim-day/2020-03-14/
LOCATION:Aaniin Community Center and Library\, 5665 14th Ave\, Markham\, Ontario\, L3S 3K5\, Canada
ORGANIZER;CN="Carolynn":MAILTO:cathompson@markham.ca
END:VEVENT
END:VCALENDAR