BEGIN:VCALENDAR
VERSION:2.0
PRODID:-//Volunteer Connect York Region - ECPv4.8.2//NONSGML v1.0//EN
CALSCALE:GREGORIAN
METHOD:PUBLISH
X-WR-CALNAME:Volunteer Connect York Region
X-ORIGINAL-URL:https://volunteermarkham.ca
X-WR-CALDESC:Events for Volunteer Connect York Region
BEGIN:VEVENT
DTSTART;TZID=America/Toronto:20200208T180000
DTEND;TZID=America/Toronto:20200208T233000
DTSTAMP:20260424T071921
CREATED:20200107T155352Z
LAST-MODIFIED:20200107T155352Z
UID:2166-1581184800-1581204600@volunteermarkham.ca
SUMMARY:2020 HKCBA 36th Annual Chinese New Year Ball
DESCRIPTION:2020 HKCBA 36th Annual Chinese New Year Ball \nCelebrating the Year of the Rat\nSaturday\, February 8\, 2020\nVenue: Le Parc Dining & Banquet\n\n6:00 p.m. – Reception\n7:30 p.m. – Dinner | Formal Attire\n\n\nJoin the “HKCBA Family” and friends for a night of fun and celebration\, and chances to win lots of Great Prizes on February 8th\, 2020!\n\n\nChampagne and Dim Sum Reception with Traditional Chinese Games\nTraditional Lion Dance\nOur special Fusion Dinner – Combining the best from the East and the West\nThe Michael Vieira Band\nCelebrity MC’s – Teresa Kruze and Jeffrey Shek\nLucky and Table Draw Prizes\nSilent Auction Prizes\nGRAND PRIZE DRAW – Be the lucky winner of TWO Round-Trip Premium Economy Flight Tickets on Cathay Pacific Airways between Toronto and Hong Kong\, plus 3-night’s stay at the Rosewood Hotel in Hong Kong and enjoy the Hong Kong Tourism Board Tours for Two!\n\n\nClick here for the registration form and please send to toronto@hkcba.com.\n\nAny questions\, please email toronto@hkcba.com.\n\nBook Your Tables or Tickets Now For EARLY BIRD PRICING!\n\nEARLY BIRD PRICING ENDS JANUARY 10\, 2020.\n\nTickets can also be purchased at https://toronto.hkcba.com/events/hkcba-36th-annual-chinese-new-year-ball-2020-celebrating-the-year-of-the-rat\n
URL:https://volunteermarkham.ca/event/2020-hkcba-36th-annual-chinese-new-year-ball/
LOCATION:Le Parc Dining & Banquet\, 8432 Leslie Street\, Thornhill\, Ontario\, Canada
END:VEVENT
END:VCALENDAR