BEGIN:VCALENDAR
VERSION:2.0
PRODID:-//Volunteer Markham - ECPv4.8.2//NONSGML v1.0//EN
CALSCALE:GREGORIAN
METHOD:PUBLISH
X-WR-CALNAME:Volunteer Markham
X-ORIGINAL-URL:https://volunteermarkham.ca/dev
X-WR-CALDESC:Events for Volunteer Markham
BEGIN:VEVENT
DTSTART;TZID=America/Toronto:20211001T190000
DTEND;TZID=America/Toronto:20211001T210000
DTSTAMP:20260420T182737
CREATED:20211012T173345Z
LAST-MODIFIED:20211012T173345Z
UID:5152-1633114800-1633122000@volunteermarkham.ca
SUMMARY:Halloween Night of Lights (Oct 1 - 31)
DESCRIPTION:AN IMMERSIVE HALLOWEEN EXPERIENCE \nFully contactless drive-thru event for a good cause designed with safety in mind\nBack by popular demand\, last years sold out Nights of Lights will be returning for the 2021 season! Bigger and better\, this years experience will feature more than 1.5 million LED and RGB lights animated and synchronized to your favourite Halloween tunes along with a NEW drive thru Trick or Treat Lane! Nights of Lights is the must-see drive through event of the Fall season for all ages. Turn up the volume and roll down the windows because this ​dazzling lights display only happens once year! \nDue to high demand\, the Halloween Nights of Lights has been moved from its original location at Revel Park in Vaughan to a larger location at the Richmond Hill GO Station at 6 Newkirk Rd.\, Richmond Hill. \n\nHalloween Nights of Lights is donating a portion of the proceeds to benefit local charity\, Epilepsy Toronto. \n\n\nOpening night was Oct. 1\, and the fun won’t stop until after Halloween. Tickets are on sale now and can be purchased online via the Nights of Lights website.   Select nights and times available. \n\nhttps://nightsoflights.ca/buy-tickets.html \ninfo@nightsoflights.ca \n\n\n\n\n
URL:https://volunteermarkham.ca/dev/event/halloween-night-of-lights-oct-1-31/2021-10-01/
LOCATION:Richmond Hill Go Station\, 6 Newkirk Road\, Richmond Hill\, Ontario\, Canada
END:VEVENT
END:VCALENDAR